Package: rprimer Version: 1.14.0 Command: /home/biocbuild/bbs-3.22-bioc/R/bin/R CMD INSTALL rprimer StartedAt: 2025-11-06 15:31:46 -0500 (Thu, 06 Nov 2025) EndedAt: 2025-11-06 15:32:05 -0500 (Thu, 06 Nov 2025) EllapsedTime: 18.2 seconds RetCode: 0 Status: OK