Package: rprimer Version: 1.14.0 Command: /home/biocbuild/bbs-3.22-bioc/R/bin/R CMD build --keep-empty-dirs --no-resave-data --md5 rprimer StartedAt: 2025-11-06 19:43:45 -0500 (Thu, 06 Nov 2025) EndedAt: 2025-11-06 19:44:48 -0500 (Thu, 06 Nov 2025) EllapsedTime: 63.1 seconds RetCode: 0 Status: OK PackageFile: rprimer_1.14.0.tar.gz PackageFileSize: 3.102 MiB