Package: ropls Version: 1.42.0 Command: /home/biocbuild/bbs-3.22-bioc/R/bin/R CMD INSTALL ropls StartedAt: 2025-11-17 17:28:59 -0500 (Mon, 17 Nov 2025) EndedAt: 2025-11-17 17:29:29 -0500 (Mon, 17 Nov 2025) EllapsedTime: 30.4 seconds RetCode: 0 Status: OK