Back to Multiple platform build/check report for BioC 3.22:   simplified   long
ABCDEFGHIJKLMNOPQ[R]STUVWXYZ

This page was generated on 2025-11-10 12:50 -0500 (Mon, 10 Nov 2025).

HostnameOSArch (*)R versionInstalled pkgs
nebbiolo2Linux (Ubuntu 24.04.3 LTS)x86_644.5.1 Patched (2025-08-23 r88802) -- "Great Square Root" 4902
kjohnson3macOS 13.7.7 Venturaarm644.5.1 Patched (2025-09-10 r88807) -- "Great Square Root" 4638
Click on any hostname to see more info about the system (e.g. compilers)      (*) as reported by 'uname -p', except on Windows and Mac OS X

All results for package ropls


To the developers/maintainers of the ropls package:
- Allow up to 24 hours (and sometimes 48 hours) for your latest push to git@git.bioconductor.org:packages/ropls.git to reflect on this report. See Troubleshooting Build Report for more information.
- Use the following Renviron settings to reproduce errors and warnings.
- If 'R CMD check' started to fail recently on the Linux builder(s) over a missing dependency, add the missing dependency to 'Suggests:' in your DESCRIPTION file. See Renviron.bioc for more information.

raw results

Package 1837/2361HostnameOS / ArchINSTALLBUILDCHECKBUILD BIN
ropls 1.42.0  (landing page)
Etienne A. Thevenot
Snapshot Date: 2025-11-09 13:45 -0500 (Sun, 09 Nov 2025)
git_url: https://git.bioconductor.org/packages/ropls
git_branch: RELEASE_3_22
git_last_commit: 7e60063
git_last_commit_date: 2025-10-29 10:26:49 -0500 (Wed, 29 Oct 2025)
nebbiolo2Linux (Ubuntu 24.04.3 LTS) / x86_64  OK    OK    OK  UNNEEDED, same version is already published
kjohnson3macOS 13.7.7 Ventura / arm64  OK    OK    OK    OK  UNNEEDED, same version is already published



Results for Bioconductor software packages that depend directly on package ropls

QUICK STATSOS / ArchINSTALLBUILDCHECKBUILD BIN
nebbiolo2Linux (Ubuntu 24.04.3 LTS) / x86_64
006
006
0015
kjohnson3macOS 13.7.7 Ventura / arm64
006
006
0114
006
Package 1/6HostnameOS / ArchINSTALLBUILDCHECKBUILD BIN
ASICS 2.26.0  (landing page)
Gaƫlle Lefort
git_last_commit: 3e46722
git_last_commit_date: 2025-10-29 10:44:17 -0500
nebbiolo2Linux (Ubuntu 24.04.3 LTS) / x86_64  OK    OK    WARNINGS  UNNEEDED, same version is already published
kjohnson3macOS 13.7.7 Ventura / arm64  OK    OK    WARNINGS    OK  UNNEEDED, same version is already published
Package 2/6HostnameOS / ArchINSTALLBUILDCHECKBUILD BIN
biosigner 1.38.0  (landing page)
Etienne A. Thevenot
git_last_commit: 0c86c9b
git_last_commit_date: 2025-10-29 10:30:29 -0500
nebbiolo2Linux (Ubuntu 24.04.3 LTS) / x86_64  OK    OK    OK  UNNEEDED, same version is already published
kjohnson3macOS 13.7.7 Ventura / arm64  OK    OK    ERROR    OK  
Package 3/6HostnameOS / ArchINSTALLBUILDCHECKBUILD BIN
lipidr 2.24.0  (landing page)
Ahmed Mohamed
git_last_commit: 2e5e4b4
git_last_commit_date: 2025-10-29 10:51:46 -0500
nebbiolo2Linux (Ubuntu 24.04.3 LTS) / x86_64  OK    OK    OK  UNNEEDED, same version is already published
kjohnson3macOS 13.7.7 Ventura / arm64  OK    OK    OK    OK  UNNEEDED, same version is already published
Package 4/6HostnameOS / ArchINSTALLBUILDCHECKBUILD BIN
MultiBaC 1.20.0  (landing page)
The package maintainer
git_last_commit: e44e678
git_last_commit_date: 2025-10-29 11:00:41 -0500
nebbiolo2Linux (Ubuntu 24.04.3 LTS) / x86_64  OK    OK    OK  UNNEEDED, same version is already published
kjohnson3macOS 13.7.7 Ventura / arm64  OK    OK    OK    OK  UNNEEDED, same version is already published
Package 5/6HostnameOS / ArchINSTALLBUILDCHECKBUILD BIN
phenomis 1.12.0  (landing page)
Etienne A. Thevenot
git_last_commit: 7918c7b
git_last_commit_date: 2025-10-29 11:18:33 -0500
nebbiolo2Linux (Ubuntu 24.04.3 LTS) / x86_64  OK    OK    OK  UNNEEDED, same version is already published
kjohnson3macOS 13.7.7 Ventura / arm64  OK    OK    OK    OK  UNNEEDED, same version is already published
Package 6/6HostnameOS / ArchINSTALLBUILDCHECKBUILD BIN
rqt 1.36.0  (landing page)
Ilya Zhbannikov
git_last_commit: 6ab0990
git_last_commit_date: 2025-10-29 10:37:13 -0500
nebbiolo2Linux (Ubuntu 24.04.3 LTS) / x86_64  OK    OK    OK  UNNEEDED, same version is already published
kjohnson3macOS 13.7.7 Ventura / arm64  OK    OK    OK    OK  UNNEEDED, same version is already published