Package: rnaEditr Version: 1.19.2 Command: /home/biocbuild/bbs-3.22-bioc/R/bin/R CMD INSTALL rnaEditr StartedAt: 2025-10-28 15:41:33 -0400 (Tue, 28 Oct 2025) EndedAt: 2025-10-28 15:42:10 -0400 (Tue, 28 Oct 2025) EllapsedTime: 36.2 seconds RetCode: 0 Status: OK