Package: rnaEditr Version: 1.19.2 Command: /home/biocbuild/bbs-3.22-bioc/R/bin/R CMD build --keep-empty-dirs --no-resave-data --md5 rnaEditr StartedAt: 2025-10-28 19:39:41 -0400 (Tue, 28 Oct 2025) EndedAt: 2025-10-28 19:40:37 -0400 (Tue, 28 Oct 2025) EllapsedTime: 56.0 seconds RetCode: 0 Status: OK PackageFile: rnaEditr_1.19.2.tar.gz PackageFileSize: 1.079 MiB