Package: rmspc Version: 1.16.0 Command: /home/biocbuild/bbs-3.22-bioc/R/bin/R CMD INSTALL rmspc StartedAt: 2025-11-06 15:28:11 -0500 (Thu, 06 Nov 2025) EndedAt: 2025-11-06 15:28:41 -0500 (Thu, 06 Nov 2025) EllapsedTime: 29.8 seconds RetCode: 0 Status: OK