Package: rmelting Version: 1.26.0 Command: /home/biocbuild/bbs-3.22-bioc/R/bin/R CMD INSTALL rmelting StartedAt: 2025-11-14 15:04:54 -0500 (Fri, 14 Nov 2025) EndedAt: 2025-11-14 15:05:13 -0500 (Fri, 14 Nov 2025) EllapsedTime: 19.5 seconds RetCode: 0 Status: OK