Package: rigvf Version: 1.2.1 Command: /home/biocbuild/bbs-3.22-bioc/R/bin/R CMD INSTALL rigvf StartedAt: 2025-11-13 15:15:53 -0500 (Thu, 13 Nov 2025) EndedAt: 2025-11-13 15:16:02 -0500 (Thu, 13 Nov 2025) EllapsedTime: 9.6 seconds RetCode: 0 Status: OK