Package: rigvf Version: 1.2.1 Command: /home/biocbuild/bbs-3.22-bioc/R/bin/R CMD build --keep-empty-dirs --no-resave-data --md5 rigvf StartedAt: 2025-11-13 19:45:29 -0500 (Thu, 13 Nov 2025) EndedAt: 2025-11-13 19:45:51 -0500 (Thu, 13 Nov 2025) EllapsedTime: 22.0 seconds RetCode: 1 Status: ERROR PackageFile: None PackageFileSize: NA