Package: rifiComparative Version: 1.10.0 Command: /home/biocbuild/bbs-3.22-bioc/R/bin/R CMD INSTALL rifiComparative StartedAt: 2025-10-31 15:40:10 -0400 (Fri, 31 Oct 2025) EndedAt: 2025-10-31 15:40:46 -0400 (Fri, 31 Oct 2025) EllapsedTime: 36.0 seconds RetCode: 0 Status: OK