Package: rifiComparative Version: 1.10.0 Command: /home/biocbuild/bbs-3.22-bioc/R/bin/R CMD build --keep-empty-dirs --no-resave-data --md5 rifiComparative StartedAt: 2025-10-30 19:40:00 -0400 (Thu, 30 Oct 2025) EndedAt: 2025-10-30 19:45:39 -0400 (Thu, 30 Oct 2025) EllapsedTime: 339.3 seconds RetCode: 0 Status: OK PackageFile: rifiComparative_1.10.0.tar.gz PackageFileSize: 3.151 MiB