Package: rifi Version: 1.14.0 Command: /home/biocbuild/bbs-3.22-bioc/R/bin/R CMD INSTALL rifi StartedAt: 2025-11-11 15:31:36 -0500 (Tue, 11 Nov 2025) EndedAt: 2025-11-11 15:32:14 -0500 (Tue, 11 Nov 2025) EllapsedTime: 38.6 seconds RetCode: 0 Status: OK