Package: ribosomeProfilingQC Version: 1.22.0 Command: /home/biocbuild/bbs-3.22-bioc/R/bin/R CMD INSTALL ribosomeProfilingQC StartedAt: 2025-10-29 22:11:27 -0400 (Wed, 29 Oct 2025) EndedAt: 2025-10-29 22:12:20 -0400 (Wed, 29 Oct 2025) EllapsedTime: 53.0 seconds RetCode: 0 Status: OK