Package: ribosomeProfilingQC Version: 1.22.0 Command: /home/biocbuild/bbs-3.22-bioc/R/bin/R CMD build --keep-empty-dirs --no-resave-data --md5 ribosomeProfilingQC StartedAt: 2025-10-30 02:03:58 -0400 (Thu, 30 Oct 2025) EndedAt: 2025-10-30 02:08:21 -0400 (Thu, 30 Oct 2025) EllapsedTime: 263.2 seconds RetCode: 0 Status: OK PackageFile: ribosomeProfilingQC_1.22.0.tar.gz PackageFileSize: 3.538 MiB