Package: riboSeqR Version: 1.44.0 Command: /home/biocbuild/bbs-3.22-bioc/R/bin/R CMD INSTALL riboSeqR StartedAt: 2025-11-17 17:23:23 -0500 (Mon, 17 Nov 2025) EndedAt: 2025-11-17 17:23:37 -0500 (Mon, 17 Nov 2025) EllapsedTime: 14.1 seconds RetCode: 0 Status: OK