Package: rhdf5client Version: 1.31.2 Command: /home/biocbuild/bbs-3.22-bioc/R/bin/R CMD build --keep-empty-dirs --no-resave-data --md5 rhdf5client StartedAt: 2025-10-24 19:45:39 -0400 (Fri, 24 Oct 2025) EndedAt: 2025-10-24 19:46:07 -0400 (Fri, 24 Oct 2025) EllapsedTime: 28.0 seconds RetCode: 0 Status: OK PackageFile: rhdf5client_1.31.2.tar.gz PackageFileSize: 535 KiB