Package: rfPred Version: 1.47.1 Command: /home/biocbuild/bbs-3.22-bioc/R/bin/R CMD INSTALL rfPred StartedAt: 2025-10-27 15:18:54 -0400 (Mon, 27 Oct 2025) EndedAt: 2025-10-27 15:19:06 -0400 (Mon, 27 Oct 2025) EllapsedTime: 11.6 seconds RetCode: 0 Status: OK