Package: rfPred Version: 1.47.1 Command: /home/biocbuild/bbs-3.22-bioc/R/bin/R CMD build --keep-empty-dirs --no-resave-data --md5 rfPred StartedAt: 2025-10-27 19:36:55 -0400 (Mon, 27 Oct 2025) EndedAt: 2025-10-27 19:37:13 -0400 (Mon, 27 Oct 2025) EllapsedTime: 18.0 seconds RetCode: 0 Status: OK PackageFile: rfPred_1.47.1.tar.gz PackageFileSize: 1.053 MiB