Package: retrofit Version: 1.9.0 Command: /home/biocbuild/bbs-3.22-bioc/R/bin/R CMD INSTALL retrofit StartedAt: 2025-10-24 15:13:40 -0400 (Fri, 24 Oct 2025) EndedAt: 2025-10-24 15:14:18 -0400 (Fri, 24 Oct 2025) EllapsedTime: 38.1 seconds RetCode: 0 Status: OK