Package: retrofit Version: 1.10.0 Command: /Library/Frameworks/R.framework/Resources/bin/R CMD INSTALL retrofit StartedAt: 2025-11-10 15:01:53 -0500 (Mon, 10 Nov 2025) EndedAt: 2025-11-10 15:02:06 -0500 (Mon, 10 Nov 2025) EllapsedTime: 13.3 seconds RetCode: 0 Status: OK