Package: retrofit Version: 1.10.0 Command: /Library/Frameworks/R.framework/Resources/bin/R CMD build --keep-empty-dirs --no-resave-data retrofit StartedAt: 2025-11-10 17:30:07 -0500 (Mon, 10 Nov 2025) EndedAt: 2025-11-10 17:30:26 -0500 (Mon, 10 Nov 2025) EllapsedTime: 18.2 seconds RetCode: 0 Status: OK PackageFile: retrofit_1.10.0.tar.gz PackageFileSize: 4.576 MiB