Package: regutools Version: 1.22.0 Command: /home/biocbuild/bbs-3.22-bioc/R/bin/R CMD INSTALL regutools StartedAt: 2025-11-16 15:49:50 -0500 (Sun, 16 Nov 2025) EndedAt: 2025-11-16 15:51:01 -0500 (Sun, 16 Nov 2025) EllapsedTime: 71.0 seconds RetCode: 0 Status: OK