Package: recoup Version: 1.38.0 Command: /home/biocbuild/bbs-3.22-bioc/R/bin/R CMD INSTALL recoup StartedAt: 2025-10-31 15:50:46 -0400 (Fri, 31 Oct 2025) EndedAt: 2025-10-31 15:51:35 -0400 (Fri, 31 Oct 2025) EllapsedTime: 49.1 seconds RetCode: 0 Status: OK