Package: recoup Version: 1.38.0 Command: /home/biocbuild/bbs-3.22-bioc/R/bin/R CMD build --keep-empty-dirs --no-resave-data --md5 recoup StartedAt: 2025-10-31 19:44:07 -0400 (Fri, 31 Oct 2025) EndedAt: 2025-10-31 19:45:08 -0400 (Fri, 31 Oct 2025) EllapsedTime: 61.1 seconds RetCode: 0 Status: OK PackageFile: recoup_1.38.0.tar.gz PackageFileSize: 2.254 MiB