Package: recountmethylation Version: 1.20.0 Command: /home/biocbuild/bbs-3.22-bioc/R/bin/R CMD INSTALL recountmethylation StartedAt: 2025-11-25 16:09:54 -0500 (Tue, 25 Nov 2025) EndedAt: 2025-11-25 16:09:57 -0500 (Tue, 25 Nov 2025) EllapsedTime: 2.3 seconds RetCode: 0 Status: OK