Package: recountmethylation Version: 1.20.0 Command: /home/biocbuild/bbs-3.22-bioc/R/bin/R CMD build --keep-empty-dirs --no-resave-data --md5 recountmethylation StartedAt: 2025-11-25 20:04:06 -0500 (Tue, 25 Nov 2025) EndedAt: 2025-11-25 20:05:48 -0500 (Tue, 25 Nov 2025) EllapsedTime: 102.1 seconds RetCode: 0 Status: OK PackageFile: recountmethylation_1.20.0.tar.gz PackageFileSize: 4.826 MiB