Package: rcellminer Version: 2.32.0 Command: /home/biocbuild/bbs-3.22-bioc/R/bin/R CMD INSTALL rcellminer StartedAt: 2025-11-17 17:21:56 -0500 (Mon, 17 Nov 2025) EndedAt: 2025-11-17 17:22:04 -0500 (Mon, 17 Nov 2025) EllapsedTime: 7.4 seconds RetCode: 0 Status: OK