Package: rawDiag Version: 1.6.0 Command: /home/biocbuild/bbs-3.22-bioc/R/bin/R CMD INSTALL rawDiag StartedAt: 2025-11-20 15:59:02 -0500 (Thu, 20 Nov 2025) EndedAt: 2025-11-20 15:59:09 -0500 (Thu, 20 Nov 2025) EllapsedTime: 6.9 seconds RetCode: 0 Status: OK