Package: rawDiag Version: 1.6.0 Command: /home/biocbuild/bbs-3.22-bioc/R/bin/R CMD build --keep-empty-dirs --no-resave-data --md5 rawDiag StartedAt: 2025-11-20 20:19:17 -0500 (Thu, 20 Nov 2025) EndedAt: 2025-11-20 20:20:30 -0500 (Thu, 20 Nov 2025) EllapsedTime: 73.1 seconds RetCode: 0 Status: OK PackageFile: rawDiag_1.6.0.tar.gz PackageFileSize: 2.14 MiB