Package: randRotation Version: 1.22.0 Command: /Library/Frameworks/R.framework/Resources/bin/R CMD INSTALL randRotation StartedAt: 2025-11-10 15:02:09 -0500 (Mon, 10 Nov 2025) EndedAt: 2025-11-10 15:02:18 -0500 (Mon, 10 Nov 2025) EllapsedTime: 9.5 seconds RetCode: 0 Status: OK