Package: randRotation Version: 1.22.0 Command: /Library/Frameworks/R.framework/Resources/bin/R CMD build --keep-empty-dirs --no-resave-data randRotation StartedAt: 2025-11-10 17:26:54 -0500 (Mon, 10 Nov 2025) EndedAt: 2025-11-10 17:27:34 -0500 (Mon, 10 Nov 2025) EllapsedTime: 40.4 seconds RetCode: 1 Status: ERROR PackageFile: None PackageFileSize: NA