Package: randPack Version: 1.56.0 Command: /home/biocbuild/bbs-3.22-bioc/R/bin/R CMD INSTALL randPack StartedAt: 2025-11-14 16:02:00 -0500 (Fri, 14 Nov 2025) EndedAt: 2025-11-14 16:02:04 -0500 (Fri, 14 Nov 2025) EllapsedTime: 4.1 seconds RetCode: 0 Status: OK