Package: randPack Version: 1.56.0 Command: /home/biocbuild/bbs-3.22-bioc/R/bin/R CMD build --keep-empty-dirs --no-resave-data --md5 randPack StartedAt: 2025-11-14 19:36:48 -0500 (Fri, 14 Nov 2025) EndedAt: 2025-11-14 19:36:55 -0500 (Fri, 14 Nov 2025) EllapsedTime: 7.0 seconds RetCode: 0 Status: OK PackageFile: randPack_1.56.0.tar.gz PackageFileSize: 255.1 KiB