Package: ramr Version: 1.18.0 Command: /Library/Frameworks/R.framework/Resources/bin/R CMD INSTALL ramr StartedAt: 2025-11-10 15:10:27 -0500 (Mon, 10 Nov 2025) EndedAt: 2025-11-10 15:10:42 -0500 (Mon, 10 Nov 2025) EllapsedTime: 15.1 seconds RetCode: 0 Status: OK