Package: ramr Version: 1.18.0 Command: rm -rf ramr.buildbin-libdir && mkdir ramr.buildbin-libdir && /Users/biocbuild/BBS/utils/build-universal.sh ramr_1.18.0.tar.gz /Library/Frameworks/R.framework/Resources/bin/R ramr.buildbin-libdir StartedAt: 2025-11-10 23:32:27 -0500 (Mon, 10 Nov 2025) EndedAt: 2025-11-10 23:32:43 -0500 (Mon, 10 Nov 2025) EllapsedTime: 16.3 seconds RetCode: 0 Status: OK PackageFile: ramr_1.18.0.tgz PackageFileSize: 2.85 MiB