Package: rTRMui Version: 1.48.0 Command: /home/biocbuild/bbs-3.22-bioc/R/bin/R CMD INSTALL rTRMui StartedAt: 2025-11-20 16:54:13 -0500 (Thu, 20 Nov 2025) EndedAt: 2025-11-20 16:55:03 -0500 (Thu, 20 Nov 2025) EllapsedTime: 50.1 seconds RetCode: 0 Status: OK