Package: rTRM Version: 1.48.0 Command: /home/biocbuild/bbs-3.22-bioc/R/bin/R CMD build --keep-empty-dirs --no-resave-data --md5 rTRM StartedAt: 2025-11-13 19:52:25 -0500 (Thu, 13 Nov 2025) EndedAt: 2025-11-13 19:53:12 -0500 (Thu, 13 Nov 2025) EllapsedTime: 47.0 seconds RetCode: 0 Status: OK PackageFile: rTRM_1.48.0.tar.gz PackageFileSize: 3.512 MiB