Package: rRDP Version: 1.43.1 Command: /home/biocbuild/bbs-3.22-bioc/R/bin/R CMD build --keep-empty-dirs --no-resave-data --md5 rRDP StartedAt: 2025-10-24 19:52:45 -0400 (Fri, 24 Oct 2025) EndedAt: 2025-10-24 19:53:07 -0400 (Fri, 24 Oct 2025) EllapsedTime: 22.0 seconds RetCode: 0 Status: OK PackageFile: rRDP_1.43.1.tar.gz PackageFileSize: 2.595 MiB