Package: rGenomeTracks Version: 1.16.0 Command: /home/biocbuild/bbs-3.22-bioc/R/bin/R CMD INSTALL rGenomeTracks StartedAt: 2025-11-16 15:26:47 -0500 (Sun, 16 Nov 2025) EndedAt: 2025-11-16 15:26:53 -0500 (Sun, 16 Nov 2025) EllapsedTime: 6.3 seconds RetCode: 0 Status: OK