Package: rGenomeTracks Version: 1.16.0 Command: /home/biocbuild/bbs-3.22-bioc/R/bin/R CMD build --keep-empty-dirs --no-resave-data --md5 rGenomeTracks StartedAt: 2025-11-16 19:45:44 -0500 (Sun, 16 Nov 2025) EndedAt: 2025-11-16 19:45:55 -0500 (Sun, 16 Nov 2025) EllapsedTime: 11.0 seconds RetCode: 0 Status: OK PackageFile: rGenomeTracks_1.16.0.tar.gz PackageFileSize: 3.342 MiB