Package: rGADEM Version: 2.58.0 Command: /home/biocbuild/bbs-3.22-bioc/R/bin/R CMD INSTALL rGADEM StartedAt: 2025-11-14 15:30:09 -0500 (Fri, 14 Nov 2025) EndedAt: 2025-11-14 15:30:15 -0500 (Fri, 14 Nov 2025) EllapsedTime: 5.6 seconds RetCode: 1 Status: ERROR