Package: rGADEM Version: 2.58.0 Command: /home/biocbuild/bbs-3.22-bioc/R/bin/R CMD build --keep-empty-dirs --no-resave-data --md5 rGADEM StartedAt: 2025-11-14 19:43:52 -0500 (Fri, 14 Nov 2025) EndedAt: 2025-11-14 19:43:57 -0500 (Fri, 14 Nov 2025) EllapsedTime: 5.0 seconds RetCode: 1 Status: ERROR PackageFile: None PackageFileSize: NA