Package: r3Cseq Version: 1.55.1 Command: /home/biocbuild/bbs-3.22-bioc/R/bin/R CMD INSTALL r3Cseq StartedAt: 2025-10-24 15:40:57 -0400 (Fri, 24 Oct 2025) EndedAt: 2025-10-24 15:41:40 -0400 (Fri, 24 Oct 2025) EllapsedTime: 43.6 seconds RetCode: 0 Status: OK