Package: r3Cseq Version: 1.56.0 Command: /Library/Frameworks/R.framework/Resources/bin/R CMD INSTALL r3Cseq StartedAt: 2025-11-03 15:35:05 -0500 (Mon, 03 Nov 2025) EndedAt: 2025-11-03 15:36:04 -0500 (Mon, 03 Nov 2025) EllapsedTime: 59.2 seconds RetCode: 0 Status: OK