Package: r3Cseq Version: 1.56.0 Command: /Library/Frameworks/R.framework/Resources/bin/R CMD build --keep-empty-dirs --no-resave-data r3Cseq StartedAt: 2025-11-03 18:21:51 -0500 (Mon, 03 Nov 2025) EndedAt: 2025-11-03 18:24:05 -0500 (Mon, 03 Nov 2025) EllapsedTime: 133.8 seconds RetCode: 0 Status: OK PackageFile: r3Cseq_1.56.0.tar.gz PackageFileSize: 4.325 MiB