Package: r3Cseq Version: 1.56.0 Command: rm -rf r3Cseq.buildbin-libdir && mkdir r3Cseq.buildbin-libdir && /Users/biocbuild/BBS/utils/build-universal.sh r3Cseq_1.56.0.tar.gz /Library/Frameworks/R.framework/Resources/bin/R r3Cseq.buildbin-libdir StartedAt: 2025-11-04 01:57:36 -0500 (Tue, 04 Nov 2025) EndedAt: 2025-11-04 01:58:38 -0500 (Tue, 04 Nov 2025) EllapsedTime: 62.4 seconds RetCode: 0 Status: OK PackageFile: r3Cseq_1.56.0.tgz PackageFileSize: 2.941 MiB