Package: r3Cseq Version: 1.56.0 Command: /Library/Frameworks/R.framework/Resources/bin/R CMD build --keep-empty-dirs --no-resave-data r3Cseq StartedAt: 2025-11-06 17:25:35 -0500 (Thu, 06 Nov 2025) EndedAt: 2025-11-06 17:26:30 -0500 (Thu, 06 Nov 2025) EllapsedTime: 55.7 seconds RetCode: 0 Status: OK PackageFile: r3Cseq_1.56.0.tar.gz PackageFileSize: 4.327 MiB