Package: qpgraph Version: 2.43.1 Command: /home/biocbuild/bbs-3.22-bioc/R/bin/R CMD INSTALL qpgraph StartedAt: 2025-10-24 15:54:22 -0400 (Fri, 24 Oct 2025) EndedAt: 2025-10-24 15:55:14 -0400 (Fri, 24 Oct 2025) EllapsedTime: 52.5 seconds RetCode: 0 Status: OK