Package: qmtools Version: 1.13.0 Command: /home/biocbuild/bbs-3.22-bioc/R/bin/R CMD INSTALL qmtools StartedAt: 2025-10-27 15:21:04 -0400 (Mon, 27 Oct 2025) EndedAt: 2025-10-27 15:21:29 -0400 (Mon, 27 Oct 2025) EllapsedTime: 24.5 seconds RetCode: 0 Status: OK